BEGIN:VCALENDAR
VERSION:2.0
PRODID:-//pretix//pretix.rotaract.de//
BEGIN:VTIMEZONE
TZID:Europe/Berlin
BEGIN:STANDARD
DTSTART:20001029T040000
RRULE:FREQ=YEARLY;BYDAY=-1SU;BYMONTH=10
TZNAME:CET
TZOFFSETFROM:+0200
TZOFFSETTO:+0100
END:STANDARD
BEGIN:DAYLIGHT
DTSTART:20000326T030000
RRULE:FREQ=YEARLY;BYDAY=-1SU;BYMONTH=3
TZNAME:CEST
TZOFFSETFROM:+0100
TZOFFSETTO:+0200
END:DAYLIGHT
END:VTIMEZONE
BEGIN:VEVENT
UID:pretix-rac-brunsbuettel-pubquiz-0@pretix.rotaract.de
DTSTART;TZID=Europe/Berlin:20260219T190000
DTEND;TZID=Europe/Berlin:20260219T200000
DESCRIPTION:Tickets: https://pretix.rotaract.de/rac-brunsbuettel/pubquiz/\n
 Veranstalter: RAC Brunsbüttel
DTSTAMP:20260419T215117Z
LOCATION:River Loft Hotel & Spa\, Am Freizeitbad 2a\, 25541 Brunsbüttel
SUMMARY:The River Riddlers - Pub Quiz im River Loft
END:VEVENT
END:VCALENDAR
