BEGIN:VCALENDAR
VERSION:2.0
PRODID:-//pretix//pretix.rotaract.de//
BEGIN:VTIMEZONE
TZID:Europe/Berlin
BEGIN:STANDARD
DTSTART:20001029T040000
RRULE:FREQ=YEARLY;BYDAY=-1SU;BYMONTH=10
TZNAME:CET
TZOFFSETFROM:+0200
TZOFFSETTO:+0100
END:STANDARD
BEGIN:DAYLIGHT
DTSTART:20000326T030000
RRULE:FREQ=YEARLY;BYDAY=-1SU;BYMONTH=3
TZNAME:CEST
TZOFFSETFROM:+0100
TZOFFSETTO:+0200
END:DAYLIGHT
END:VTIMEZONE
BEGIN:VEVENT
UID:pretix-rac-brunsbuettel-bingoabend-0@pretix.rotaract.de
DTSTART;TZID=Europe/Berlin:20260313T190000
DTEND;TZID=Europe/Berlin:20260313T200000
DESCRIPTION:Tickets: https://pretix.rotaract.de/rac-brunsbuettel/bingoabend
 /\nEinlass: 13.03.2026 18:30\nVeranstalter: RAC Brunsbüttel
DTSTAMP:20260419T185431Z
LOCATION:River Loft Hotel\, Am Freizeitbad 2a\, 25541 Brunsbüttel
SUMMARY:Bingo Abend 13.03.2026
END:VEVENT
END:VCALENDAR
